Workbook

Sheet 申請書（障がい福祉施設等）
B2: 様式第１号（第６条関係）
W4: 令和 | X4: 8 | Y4: 年 | AA4: 月 | AC4: 日
B6: 益田市長 様
N8: （申請者） | Q8: 郵便番号 | S8: 〒 | V8: －
Q9: 住 所
Q11: 法人名
Q13: 代表者
Q15: （法人の場合は法人の名称及び代表者の職名・氏名）
B18: 益田市障がい福祉施設等物価高騰対策応援金支給申請書兼請求書
B20: 益田市障がい福祉施設等物価高騰対策応援金の支給を受けたいので、益田市障がい福祉施設等物価高騰対策応援金支給要綱第６条第１項の規定により、下記のとおり申請（請求）します。 なお、応援金の支給の決定に際して、市長が申請者の市税の納付状況について調査することに同意します。
B24: 記
B26: １ 申請額 | I26: 金 | J26: =Z72 -> 0 | N26: 円
B29: ２ 申請内訳 | F29: 裏面のとおり
B31: ３ 振込先 応援金の支給については、次の口座への振込を希望します。
B32: 金融機関 | M32: 店舗名
B34: 口座種別 | E34: １ 普通 | H34: ２ 当座 | M34: 口座番号
E35: ３ 貯蓄 | H35: ４ その他
H36: （ ）
B37: フリガナ
B38: 口座名義人
B45: ※この申請書兼請求書は、益田市障がい福祉施設等物価高騰対策応援金の支給決定があった後、支給決定日をもって請求書として取り扱います。
B54: ２ 申請内訳
B56: 対象施設等区分 | G56: 施設名・事業所名 | M56: 所在地 | V56: 棟数 （共同生活援助の場合に記入） | Z56: 申請額 (円)
B57: 1 | Z57: =IFERROR(IF($C57=別表リスト!$A$4,INDEX(別表リスト!$A$3:$C$21,MATCH($C57,別表リスト!$A$3:$A$21,0),3)*V57,INDEX(別表リスト!$A$3:$C$21,MATCH($C57,別表リスト!$A$3:$A$21,0),3)),"")
B58: 2 | Z58: =IFERROR(IF($C58=別表リスト!$A$4,INDEX(別表リスト!$A$3:$C$21,MATCH($C58,別表リスト!$A$3:$A$21,0),3)*V58,INDEX(別表リスト!$A$3:$C$21,MATCH($C58,別表リスト!$A$3:$A$21,0),3)),"")
B59: 3 | Z59: =IFERROR(IF($C59=別表リスト!$A$4,INDEX(別表リスト!$A$3:$C$21,MATCH($C59,別表リスト!$A$3:$A$21,0),3)*V59,INDEX(別表リスト!$A$3:$C$21,MATCH($C59,別表リスト!$A$3:$A$21,0),3)),"")
B60: 4 | Z60: =IFERROR(IF($C60=別表リスト!$A$4,INDEX(別表リスト!$A$3:$C$21,MATCH($C60,別表リスト!$A$3:$A$21,0),3)*V60,INDEX(別表リスト!$A$3:$C$21,MATCH($C60,別表リスト!$A$3:$A$21,0),3)),"")
B61: 5 | Z61: =IFERROR(IF($C61=別表リスト!$A$4,INDEX(別表リスト!$A$3:$C$21,MATCH($C61,別表リスト!$A$3:$A$21,0),3)*V61,INDEX(別表リスト!$A$3:$C$21,MATCH($C61,別表リスト!$A$3:$A$21,0),3)),"")
B62: 6 | Z62: =IFERROR(IF($C62=別表リスト!$A$4,INDEX(別表リスト!$A$3:$C$21,MATCH($C62,別表リスト!$A$3:$A$21,0),3)*V62,INDEX(別表リスト!$A$3:$C$21,MATCH($C62,別表リスト!$A$3:$A$21,0),3)),"")
B63: 7 | Z63: =IFERROR(IF($C63=別表リスト!$A$4,INDEX(別表リスト!$A$3:$C$21,MATCH($C63,別表リスト!$A$3:$A$21,0),3)*V63,INDEX(別表リスト!$A$3:$C$21,MATCH($C63,別表リスト!$A$3:$A$21,0),3)),"")
B64: 8 | Z64: =IFERROR(IF($C64=別表リスト!$A$4,INDEX(別表リスト!$A$3:$C$21,MATCH($C64,別表リスト!$A$3:$A$21,0),3)*V64,INDEX(別表リスト!$A$3:$C$21,MATCH($C64,別表リスト!$A$3:$A$21,0),3)),"")
B65: 9 | Z65: =IFERROR(IF($C65=別表リスト!$A$4,INDEX(別表リスト!$A$3:$C$21,MATCH($C65,別表リスト!$A$3:$A$21,0),3)*V65,INDEX(別表リスト!$A$3:$C$21,MATCH($C65,別表リスト!$A$3:$A$21,0),3)),"")
B66: 10 | Z66: =IFERROR(IF($C66=別表リスト!$A$4,INDEX(別表リスト!$A$3:$C$21,MATCH($C66,別表リスト!$A$3:$A$21,0),3)*V66,INDEX(別表リスト!$A$3:$C$21,MATCH($C66,別表リスト!$A$3:$A$21,0),3)),"")
B67: 11 | Z67: =IFERROR(IF($C67=別表リスト!$A$4,INDEX(別表リスト!$A$3:$C$21,MATCH($C67,別表リスト!$A$3:$A$21,0),3)*V67,INDEX(別表リスト!$A$3:$C$21,MATCH($C67,別表リスト!$A$3:$A$21,0),3)),"")
B68: 12 | Z68: =IFERROR(IF($C68=別表リスト!$A$4,INDEX(別表リスト!$A$3:$C$21,MATCH($C68,別表リスト!$A$3:$A$21,0),3)*V68,INDEX(別表リスト!$A$3:$C$21,MATCH($C68,別表リスト!$A$3:$A$21,0),3)),"")
... B71: 15 | Z71: =IFERROR(IF($C71=別表リスト!$A$4,INDEX(別表リスト!$A$3:$C$21,MATCH($C71,別表リスト!$A$3:$A$21,0),3)*V71,INDEX(別表リスト!$A$3:$C$21,MATCH($C71,別表リスト!$A$3:$A$21,0),3)),"")
B72: 合計 | Z72: =SUM(Z57:AC71) -> 0
B74: ３ 担当者
B76: 担当者氏名
B77: 電話番号
B78: メールアドレス

Sheet 【記入例】
B2: 様式第１号（第６条関係）
W4: 令和 | X4: 8 | Y4: 年 | Z4: 9 | AA4: 月 | AB4: 18 | AC4: 日
B6: 益田市長 様
N8: （申請者） | Q8: 郵便番号 | S8: 〒 | T8: 698 | V8: － | W8: 8650
Q9: 住 所 | S9: 益田市常盤町１番１号
Q11: 法人名 | S11: 社会福祉法人〇〇
Q13: 代表者 | S13: 理事長 〇〇 〇〇
Q15: （法人の場合は法人の名称及び代表者の職名・氏名）
B18: 益田市障がい福祉施設等物価高騰対策応援金支給申請書兼請求書
B20: 益田市障がい福祉施設等物価高騰対策応援金の支給を受けたいので、益田市障がい福祉施設等物価高騰対策応援金支給要綱第６条第１項の規定により、下記のとおり申請（請求）します。 なお、応援金の支給の決定に際して、市長が申請者の市税の納付状況について調査することに同意します。
B24: 記
B26: １ 申請額 | I26: 金 | J26: =Z72 -> 1125000 | N26: 円
B29: ２ 申請内訳 | F29: 裏面のとおり
B31: ３ 振込先 応援金の支給については、次の口座への振込を希望します。
B32: 金融機関 | E32: 〇〇銀行 | M32: 店舗名 | P32: 〇〇支店
B34: 口座種別 | E34: １ 普通 | H34: ２ 当座 | M34: 口座番号 | P34: 9 | R34: 9 | T34: 9 | V34: 9 | X34: 9 | Z34: 9 | AB34: 9
E35: ３ 貯蓄 | H35: ４ その他
H36: （ ）
B37: フリガナ | E37: マルマル マルマル
B38: 口座名義人 | E38: 〇〇 〇〇
B45: ※この申請書兼請求書は、益田市障がい福祉施設等物価高騰対策応援金の支給決定があった後、支給決定日をもって請求書として取り扱います。
B54: ２ 申請内訳
B56: 対象施設等区分 | G56: 施設名・事業所名 | M56: 所在地 | V56: 棟数 （共同生活援助の場合に記入） | Z56: 申請額 (円)
B57: 1 | C57: 施設入所支援 | G57: 障害者支援施設〇〇 | M57: 益田市〇〇 | Z57: =IFERROR(IF($C57=別表リスト!$A$4,INDEX(別表リスト!$A$3:$C$21,MATCH($C57,別表リスト!$A$3:$A$21,0),3)*V57,INDEX(別表リスト!$A$3:$C$21,MATCH($C57,別表リスト!$A$3:$A$21,0),3)),"") -> 405000
B58: 2 | C58: 共同生活援助 | G58: グループホーム〇〇 | M58: 益田市△△ | V58: 3 | Z58: =IFERROR(IF($C58=別表リスト!$A$4,INDEX(別表リスト!$A$3:$C$21,MATCH($C58,別表リスト!$A$3:$A$21,0),3)*V58,INDEX(別表リスト!$A$3:$C$21,MATCH($C58,別表リスト!$A$3:$A$21,0),3)),"") -> 270000
B59: 3 | C59: 居宅介護 | G59: ヘルパーステーション〇〇 | M59: 益田市□□ | Z59: =IFERROR(IF($C59=別表リスト!$A$4,INDEX(別表リスト!$A$3:$C$21,MATCH($C59,別表リスト!$A$3:$A$21,0),3)*V59,INDEX(別表リスト!$A$3:$C$21,MATCH($C59,別表リスト!$A$3:$A$21,0),3)),"") -> 45000
B60: 4 | C60: 同行援護 | G60: ヘルパーステーション〇〇 | M60: 益田市□□ | Z60: =IFERROR(IF($C60=別表リスト!$A$4,INDEX(別表リスト!$A$3:$C$21,MATCH($C60,別表リスト!$A$3:$A$21,0),3)*V60,INDEX(別表リスト!$A$3:$C$21,MATCH($C60,別表リスト!$A$3:$A$21,0),3)),"") -> 45000
B61: 5 | C61: 短期入所 | G61: 障害者支援施設〇〇 | M61: 益田市〇〇 | Z61: =IFERROR(IF($C61=別表リスト!$A$4,INDEX(別表リスト!$A$3:$C$21,MATCH($C61,別表リスト!$A$3:$A$21,0),3)*V61,INDEX(別表リスト!$A$3:$C$21,MATCH($C61,別表リスト!$A$3:$A$21,0),3)),"") -> 45000
B62: 6 | C62: 就労継続支援Ｂ型 | G62: 就労継続支援〇〇 | M62: 益田市●● | Z62: =IFERROR(IF($C62=別表リスト!$A$4,INDEX(別表リスト!$A$3:$C$21,MATCH($C62,別表リスト!$A$3:$A$21,0),3)*V62,INDEX(別表リスト!$A$3:$C$21,MATCH($C62,別表リスト!$A$3:$A$21,0),3)),"") -> 45000
B63: 7 | C63: 計画相談支援 | G63: 相談支援事業所〇〇 | M63: 益田市▲▲ | Z63: =IFERROR(IF($C63=別表リスト!$A$4,INDEX(別表リスト!$A$3:$C$21,MATCH($C63,別表リスト!$A$3:$A$21,0),3)*V63,INDEX(別表リスト!$A$3:$C$21,MATCH($C63,別表リスト!$A$3:$A$21,0),3)),"") -> 45000
B64: 8 | C64: 地域移行支援 | G64: 相談支援事業所〇〇 | M64: 益田市▲▲ | Z64: =IFERROR(IF($C64=別表リスト!$A$4,INDEX(別表リスト!$A$3:$C$21,MATCH($C64,別表リスト!$A$3:$A$21,0),3)*V64,INDEX(別表リスト!$A$3:$C$21,MATCH($C64,別表リスト!$A$3:$A$21,0),3)),"") -> 45000
B65: 9 | C65: 地域定着支援 | G65: 相談支援事業所〇〇 | M65: 益田市▲▲ | Z65: =IFERROR(IF($C65=別表リスト!$A$4,INDEX(別表リスト!$A$3:$C$21,MATCH($C65,別表リスト!$A$3:$A$21,0),3)*V65,INDEX(別表リスト!$A$3:$C$21,MATCH($C65,別表リスト!$A$3:$A$21,0),3)),"") -> 45000
B66: 10 | C66: 障害児相談支援 | G66: 相談支援事業所〇〇 | M66: 益田市▲▲ | Z66: =IFERROR(IF($C66=別表リスト!$A$4,INDEX(別表リスト!$A$3:$C$21,MATCH($C66,別表リスト!$A$3:$A$21,0),3)*V66,INDEX(別表リスト!$A$3:$C$21,MATCH($C66,別表リスト!$A$3:$A$21,0),3)),"") -> 45000
B67: 11 | C67: 児童発達支援 | G67: 障害児通所支援〇〇 | M67: 益田市■■ | Z67: =IFERROR(IF($C67=別表リスト!$A$4,INDEX(別表リスト!$A$3:$C$21,MATCH($C67,別表リスト!$A$3:$A$21,0),3)*V67,INDEX(別表リスト!$A$3:$C$21,MATCH($C67,別表リスト!$A$3:$A$21,0),3)),"") -> 45000
B68: 12 | C68: 放課後等デイサービス | G68: 障害児通所支援〇〇 | M68: 益田市■■ | Z68: =IFERROR(IF($C68=別表リスト!$A$4,INDEX(別表リスト!$A$3:$C$21,MATCH($C68,別表リスト!$A$3:$A$21,0),3)*V68,INDEX(別表リスト!$A$3:$C$21,MATCH($C68,別表リスト!$A$3:$A$21,0),3)),"") -> 45000
B69: 13 | Z69: =IFERROR(IF($C69=別表リスト!$A$4,INDEX(別表リスト!$A$3:$C$21,MATCH($C69,別表リスト!$A$3:$A$21,0),3)*V69,INDEX(別表リスト!$A$3:$C$21,MATCH($C69,別表リスト!$A$3:$A$21,0),3)),"")
B70: 14 | Z70: =IFERROR(IF($C70=別表リスト!$A$4,INDEX(別表リスト!$A$3:$C$21,MATCH($C70,別表リスト!$A$3:$A$21,0),3)*V70,INDEX(別表リスト!$A$3:$C$21,MATCH($C70,別表リスト!$A$3:$A$21,0),3)),"")
B71: 15 | Z71: =IFERROR(IF($C71=別表リスト!$A$4,INDEX(別表リスト!$A$3:$C$21,MATCH($C71,別表リスト!$A$3:$A$21,0),3)*V71,INDEX(別表リスト!$A$3:$C$21,MATCH($C71,別表リスト!$A$3:$A$21,0),3)),"")
B72: 合計 | Z72: =SUM(Z57:AC71) -> 1125000
B74: ３ 担当者
B76: 担当者氏名 | I76: △△ △△
B77: 電話番号 | I77: 0856-31-0100
B78: メールアドレス | I78: syogaisya@city.masuda.lg.jp

Sheet 別表リスト
A1: 応援金対象施設等、支給額リスト
A2: 対象施設等 | B2: 支給額
A3: 施設入所支援 | B3: 1施設につき | C3: 405000
A4: 共同生活援助 | B4: 1棟につき | C4: 90000
A5: 居宅介護 | B5: 1施設（事業所）につき | C5: 45000
A6: 重度訪問介護 | B6: 1施設（事業所）につき | C6: 45000
A7: 同行援護 | B7: 1施設（事業所）につき | C7: 45000
A8: 行動援護 | B8: 1施設（事業所）につき | C8: 45000
A9: 生活介護 | B9: 1施設（事業所）につき | C9: 45000
A10: 短期入所 | B10: 1施設（事業所）につき | C10: 45000
A11: 自立訓練（機能訓練） | B11: 1施設（事業所）につき | C11: 45000
A12: 自立訓練（生活訓練） | B12: 1施設（事業所）につき | C12: 45000
A13: 就労継続支援Ａ型 | B13: 1施設（事業所）につき | C13: 45000
A14: 就労継続支援Ｂ型 | B14: 1施設（事業所）につき | C14: 45000
... A21: 障害児相談支援 | B21: 1施設（事業所）につき | C21: 45000
