Workbook

Sheet 高齢者施設 
B2: 様式第１号（第６条関係）
W4: 令和 | Y4: 年 | AA4: 月 | AC4: 日
B6: 益田市長 様
N8: （申請者） | Q8: 郵便番号 | S8: 〒 | V8: －
Q9: 住 所
Q11: 法人名
Q13: 代表者
Q15: （法人の場合は法人の名称及び代表者の職名・氏名）
B18: 益田市介護保険施設・老人福祉施設等物価高騰対策応援金支給申請書兼請求書
B20: 益田市介護保険施設・老人福祉施設等物価高騰対策応援金の支給を受けたいので、益田市介護保険施設・老人福祉施設等物価高騰対策応援金支給要綱第６条第１項の規定により、下記のとおり申請（請求）します。 なお、応援金の支給の決定に際して、市長が申請者の市税の納付状況について調査することに同意します。
B24: 記
B26: １ 申請額（請求額） | I26: 金 | J26: =Z65 -> 0 | N26: 円
B29: ２ 申請内訳 裏面のとおり
B31: ３ 振込先 応援金の支給については、次の口座への振込を希望します。
B32: 金融機関 | K32: □銀行 | M32: □信用組合 | AA32: □支店
K33: □農協 | M33: □信金 | AA33: □支所
K34: □労金 | M34: □漁協 | AA34: □出張所
B35: 口座種別 | E35: １普通 ２当座 | M35: 口座番号
B38: フリガナ
B39: 口座名義人
B43: ※この申請書兼請求書は、益田市介護保険施設・老人福祉施設等物価高騰対策応援金の支給決定があった後、支給決定日をもって請求書として取り扱います。
B52: 申請内訳
B54: 対象施設区分 | I54: 施設名・事業所名 | Q54: 所在地 | Y54: 定員(人) | Z54: 申請額 (円)
B55: 1 | Z55: =IF(C55="","",IF(C55="認知症対応型共同生活介護",IF(Y55="","",ROUNDUP(Y55/9,0)*90000),IF(COUNTIF(別表リスト!$A$10:$A$25,C55),VLOOKUP(C55,別表リスト!$A$10:$C$25,3,FALSE),IF(COUNTIF(別表リスト!$A$3:$A$9,C55),IF(Y55="","",IF(Y55<30,別表リスト!$C$5,IF(Y55<50,別表リスト!$C$6,IF(Y55<100,別表リスト!$C$7,別表リスト!$C$8)))),""))))
B56: 2 | Z56: =IF(C56="","",IF(C56="認知症対応型共同生活介護",IF(Y56="","",ROUNDUP(Y56/9,0)*90000),IF(COUNTIF(別表リスト!$A$10:$A$25,C56),VLOOKUP(C56,別表リスト!$A$10:$C$25,3,FALSE),IF(COUNTIF(別表リスト!$A$3:$A$9,C56),IF(Y56="","",IF(Y56<30,別表リスト!$C$5,IF(Y56<50,別表リスト!$C$6,IF(Y56<100,別表リスト!$C$7,別表リスト!$C$8)))),""))))
B57: 3 | Z57: =IF(C57="","",IF(C57="認知症対応型共同生活介護",IF(Y57="","",ROUNDUP(Y57/9,0)*90000),IF(COUNTIF(別表リスト!$A$10:$A$25,C57),VLOOKUP(C57,別表リスト!$A$10:$C$25,3,FALSE),IF(COUNTIF(別表リスト!$A$3:$A$9,C57),IF(Y57="","",IF(Y57<30,別表リスト!$C$5,IF(Y57<50,別表リスト!$C$6,IF(Y57<100,別表リスト!$C$7,別表リスト!$C$8)))),""))))
B58: 4 | Z58: =IF(C58="","",IF(C58="認知症対応型共同生活介護",IF(Y58="","",ROUNDUP(Y58/9,0)*90000),IF(COUNTIF(別表リスト!$A$10:$A$25,C58),VLOOKUP(C58,別表リスト!$A$10:$C$25,3,FALSE),IF(COUNTIF(別表リスト!$A$3:$A$9,C58),IF(Y58="","",IF(Y58<30,別表リスト!$C$5,IF(Y58<50,別表リスト!$C$6,IF(Y58<100,別表リスト!$C$7,別表リスト!$C$8)))),""))))
B59: 5 | Z59: =IF(C59="","",IF(C59="認知症対応型共同生活介護",IF(Y59="","",ROUNDUP(Y59/9,0)*90000),IF(COUNTIF(別表リスト!$A$10:$A$25,C59),VLOOKUP(C59,別表リスト!$A$10:$C$25,3,FALSE),IF(COUNTIF(別表リスト!$A$3:$A$9,C59),IF(Y59="","",IF(Y59<30,別表リスト!$C$5,IF(Y59<50,別表リスト!$C$6,IF(Y59<100,別表リスト!$C$7,別表リスト!$C$8)))),""))))
B60: 6 | Z60: =IF(C60="","",IF(C60="認知症対応型共同生活介護",IF(Y60="","",ROUNDUP(Y60/9,0)*90000),IF(COUNTIF(別表リスト!$A$10:$A$25,C60),VLOOKUP(C60,別表リスト!$A$10:$C$25,3,FALSE),IF(COUNTIF(別表リスト!$A$3:$A$9,C60),IF(Y60="","",IF(Y60<30,別表リスト!$C$5,IF(Y60<50,別表リスト!$C$6,IF(Y60<100,別表リスト!$C$7,別表リスト!$C$8)))),""))))
B61: 7 | Z61: =IF(C61="","",IF(C61="認知症対応型共同生活介護",IF(Y61="","",ROUNDUP(Y61/9,0)*90000),IF(COUNTIF(別表リスト!$A$10:$A$25,C61),VLOOKUP(C61,別表リスト!$A$10:$C$25,3,FALSE),IF(COUNTIF(別表リスト!$A$3:$A$9,C61),IF(Y61="","",IF(Y61<30,別表リスト!$C$5,IF(Y61<50,別表リスト!$C$6,IF(Y61<100,別表リスト!$C$7,別表リスト!$C$8)))),""))))
B62: 8 | Z62: =IF(C62="","",IF(C62="認知症対応型共同生活介護",IF(Y62="","",ROUNDUP(Y62/9,0)*90000),IF(COUNTIF(別表リスト!$A$10:$A$25,C62),VLOOKUP(C62,別表リスト!$A$10:$C$25,3,FALSE),IF(COUNTIF(別表リスト!$A$3:$A$9,C62),IF(Y62="","",IF(Y62<30,別表リスト!$C$5,IF(Y62<50,別表リスト!$C$6,IF(Y62<100,別表リスト!$C$7,別表リスト!$C$8)))),""))))
B63: 9 | Z63: =IF(C63="","",IF(C63="認知症対応型共同生活介護",IF(Y63="","",ROUNDUP(Y63/9,0)*90000),IF(COUNTIF(別表リスト!$A$10:$A$25,C63),VLOOKUP(C63,別表リスト!$A$10:$C$25,3,FALSE),IF(COUNTIF(別表リスト!$A$3:$A$9,C63),IF(Y63="","",IF(Y63<30,別表リスト!$C$5,IF(Y63<50,別表リスト!$C$6,IF(Y63<100,別表リスト!$C$7,別表リスト!$C$8)))),""))))
B64: 10 | Z64: =IF(C64="","",IF(C64="認知症対応型共同生活介護",IF(Y64="","",ROUNDUP(Y64/9,0)*90000),IF(COUNTIF(別表リスト!$A$10:$A$25,C64),VLOOKUP(C64,別表リスト!$A$10:$C$25,3,FALSE),IF(COUNTIF(別表リスト!$A$3:$A$9,C64),IF(Y64="","",IF(Y64<30,別表リスト!$C$5,IF(Y64<50,別表リスト!$C$6,IF(Y64<100,別表リスト!$C$7,別表リスト!$C$8)))),""))))
B65: 合計 | Z65: =SUM(Z55:AC64) -> 0
B67: 担当者
B69: 担当者氏名
B70: 電話番号
B71: メールアドレス

Sheet 記載例
B2: 様式第１号（第６条関係）
W4: 令和 | Y4: 年 | AA4: 月 | AC4: 日
B6: 益田市長 様
N8: （申請者） | Q8: 郵便番号 | S8: 〒 | T8: 698 | V8: － | W8: 0023
Q9: 住 所 | S9: 益田市常盤町1番1号
Q11: 法人名 | S11: 社会福祉法人〇〇〇〇
Q13: 代表者 | S13: 理事長 □□ □□
Q15: （法人の場合は法人の名称及び代表者の職名・氏名）
B18: 益田市介護保険施設・老人福祉施設等物価高騰対策応援金支給申請書兼請求書
B20: 益田市介護保険施設・老人福祉施設等物価高騰対策応援金の支給を受けたいので、益田市介護保険施設・老人福祉施設等物価高騰対策応援金支給要綱第６条第１項の規定により、下記のとおり申請（請求）します。 なお、応援金の支給の決定に際して、市長が申請者の市税の納付状況について調査することに同意します。
B24: 記
B26: １ 申請額（請求額） | I26: 金 | J26: =Z65 -> 810000 | N26: 円
B29: ２ 申請内訳 裏面のとおり
B31: ３ 振込先 応援金の支給については、次の口座への振込を希望します。
B32: 金融機関 | E32: 〇〇〇〇 | K32: ☑銀行 | M32: □信用組合 | P32: 〇〇〇〇 | AA32: ☑支店
K33: □農協 | M33: □信金 | AA33: □支所
K34: □労金 | M34: □漁協 | AA34: □出張所
B35: 口座種別 | E35: ①普通 ２当座 | M35: 口座番号 | P35: 0 | R35: 0 | T35: 0 | V35: 0 | X35: 0 | Z35: 0 | AB35: 0
B38: フリガナ | E38: 〇〇 〇〇
B39: 口座名義人 | E39: 〇〇 〇〇
B43: ※この申請書兼請求書は、益田市介護保険施設・老人福祉施設等物価高騰対策応援金の支給決定があった後、支給決定日をもって請求書として取り扱います。
B52: 申請内訳
B54: 対象施設区分 | I54: 施設名・事業所名 | Q54: 所在地 | Y54: 定員(人) | Z54: 申請額 (円)
B55: 1 | C55: 介護医療院 | I55: 〇〇事業所 | Q55: 益田市〇〇町〇番地 | Y55: 28 | Z55: =IF(C55="","",IF(C55="認知症対応型共同生活介護",IF(Y55="","",ROUNDUP(Y55/9,0)*90000),IF(COUNTIF(別表リスト!$A$10:$A$25,C55),VLOOKUP(C55,別表リスト!$A$10:$C$25,3,FALSE),IF(COUNTIF(別表リスト!$A$3:$A$9,C55),IF(Y55="","",IF(Y55<30,別表リスト!$C$5,IF(Y55<50,別表リスト!$C$6,IF(Y55<100,別表リスト!$C$7,別表リスト!$C$8)))),"")))) -> 180000
B56: 2 | C56: 養護老人ホーム | I56: 〇〇苑 | Q56: 益田市〇〇町〇番地 | Y56: 50 | Z56: =IF(C56="","",IF(C56="認知症対応型共同生活介護",IF(Y56="","",ROUNDUP(Y56/9,0)*90000),IF(COUNTIF(別表リスト!$A$10:$A$25,C56),VLOOKUP(C56,別表リスト!$A$10:$C$25,3,FALSE),IF(COUNTIF(別表リスト!$A$3:$A$9,C56),IF(Y56="","",IF(Y56<30,別表リスト!$C$5,IF(Y56<50,別表リスト!$C$6,IF(Y56<100,別表リスト!$C$7,別表リスト!$C$8)))),"")))) -> 405000
B57: 3 | C57: 認知症対応型共同生活介護 | I57: 〇〇ホーム | Q57: 益田市〇〇町〇番地 | Y57: 18 | Z57: =IF(C57="","",IF(C57="認知症対応型共同生活介護",IF(Y57="","",ROUNDUP(Y57/9,0)*90000),IF(COUNTIF(別表リスト!$A$10:$A$25,C57),VLOOKUP(C57,別表リスト!$A$10:$C$25,3,FALSE),IF(COUNTIF(別表リスト!$A$3:$A$9,C57),IF(Y57="","",IF(Y57<30,別表リスト!$C$5,IF(Y57<50,別表リスト!$C$6,IF(Y57<100,別表リスト!$C$7,別表リスト!$C$8)))),"")))) -> 180000
B58: 4 | C58: 地域密着型通所介護 | I58: デイサービス〇〇 | Q58: 益田市〇〇町〇番地 | Y58: 15 | Z58: =IF(C58="","",IF(C58="認知症対応型共同生活介護",IF(Y58="","",ROUNDUP(Y58/9,0)*90000),IF(COUNTIF(別表リスト!$A$10:$A$25,C58),VLOOKUP(C58,別表リスト!$A$10:$C$25,3,FALSE),IF(COUNTIF(別表リスト!$A$3:$A$9,C58),IF(Y58="","",IF(Y58<30,別表リスト!$C$5,IF(Y58<50,別表リスト!$C$6,IF(Y58<100,別表リスト!$C$7,別表リスト!$C$8)))),"")))) -> 45000
B59: 5 | Z59: =IF(C59="","",IF(C59="認知症対応型共同生活介護",IF(Y59="","",ROUNDUP(Y59/9,0)*90000),IF(COUNTIF(別表リスト!$A$10:$A$25,C59),VLOOKUP(C59,別表リスト!$A$10:$C$25,3,FALSE),IF(COUNTIF(別表リスト!$A$3:$A$9,C59),IF(Y59="","",IF(Y59<30,別表リスト!$C$5,IF(Y59<50,別表リスト!$C$6,IF(Y59<100,別表リスト!$C$7,別表リスト!$C$8)))),""))))
B60: 6 | Z60: =IF(C60="","",IF(C60="認知症対応型共同生活介護",IF(Y60="","",ROUNDUP(Y60/9,0)*90000),IF(COUNTIF(別表リスト!$A$10:$A$25,C60),VLOOKUP(C60,別表リスト!$A$10:$C$25,3,FALSE),IF(COUNTIF(別表リスト!$A$3:$A$9,C60),IF(Y60="","",IF(Y60<30,別表リスト!$C$5,IF(Y60<50,別表リスト!$C$6,IF(Y60<100,別表リスト!$C$7,別表リスト!$C$8)))),""))))
B61: 7 | Z61: =IF(C61="","",IF(C61="認知症対応型共同生活介護",IF(Y61="","",ROUNDUP(Y61/9,0)*90000),IF(COUNTIF(別表リスト!$A$10:$A$25,C61),VLOOKUP(C61,別表リスト!$A$10:$C$25,3,FALSE),IF(COUNTIF(別表リスト!$A$3:$A$9,C61),IF(Y61="","",IF(Y61<30,別表リスト!$C$5,IF(Y61<50,別表リスト!$C$6,IF(Y61<100,別表リスト!$C$7,別表リスト!$C$8)))),""))))
B62: 8 | Z62: =IF(C62="","",IF(C62="認知症対応型共同生活介護",IF(Y62="","",ROUNDUP(Y62/9,0)*90000),IF(COUNTIF(別表リスト!$A$10:$A$25,C62),VLOOKUP(C62,別表リスト!$A$10:$C$25,3,FALSE),IF(COUNTIF(別表リスト!$A$3:$A$9,C62),IF(Y62="","",IF(Y62<30,別表リスト!$C$5,IF(Y62<50,別表リスト!$C$6,IF(Y62<100,別表リスト!$C$7,別表リスト!$C$8)))),""))))
B63: 9 | Z63: =IF(C63="","",IF(C63="認知症対応型共同生活介護",IF(Y63="","",ROUNDUP(Y63/9,0)*90000),IF(COUNTIF(別表リスト!$A$10:$A$25,C63),VLOOKUP(C63,別表リスト!$A$10:$C$25,3,FALSE),IF(COUNTIF(別表リスト!$A$3:$A$9,C63),IF(Y63="","",IF(Y63<30,別表リスト!$C$5,IF(Y63<50,別表リスト!$C$6,IF(Y63<100,別表リスト!$C$7,別表リスト!$C$8)))),""))))
B64: 10 | Z64: =IF(C64="","",IF(C64="認知症対応型共同生活介護",IF(Y64="","",ROUNDUP(Y64/9,0)*90000),IF(COUNTIF(別表リスト!$A$10:$A$25,C64),VLOOKUP(C64,別表リスト!$A$10:$C$25,3,FALSE),IF(COUNTIF(別表リスト!$A$3:$A$9,C64),IF(Y64="","",IF(Y64<30,別表リスト!$C$5,IF(Y64<50,別表リスト!$C$6,IF(Y64<100,別表リスト!$C$7,別表リスト!$C$8)))),""))))
B65: 合計 | Z65: =SUM(Z55:AC64) -> 810000
B67: 担当者
B69: 担当者氏名 | I69: ○○ ○○
B70: 電話番号 | I70: ****-**-****
B71: メールアドレス | I71: ******@****.**.**

Sheet 別表リスト
A1: 別表（第４条、第５条関係）
A2: 対象施設等 | B2: 基準額
A3: 介護医療院 | B3: １施設につき
A4: 介護老人保健施設 | B4: 定員
A5: 介護老人福祉施設 | B5: 30人未満 | C5: 180000
A6: 地域密着型介護老人福祉施設入所者生活介護 | B6: 30人以上50人未満 | C6: 270000
A7: 特定施設入居者生活介護(老人福祉法第２９条に規定する有料老人ホームにおいて、サービスを提供する者に限る。） | B7: 50人以上100人未満 | C7: 405000
A8: 軽費老人ホーム | B8: 100人以上 | C8: 540000
A9: 養護老人ホーム
A10: 認知症対応型共同生活介護 | B10: 1ユニットにつき90,000円 | C10: 90000
A11: 訪問介護 | C11: 45000
A12: 訪問入浴介護 | C12: 45000
A13: 訪問看護(介護保険法第７１条及び第１１５条の１１の規定によるみなし指定を受けている事業所を除く。） | C13: 45000
A14: 訪問ﾘﾊﾋﾞﾘﾃｰｼｮﾝ(介護保険法第７１条及び第１１５条の１１の規定によるみなし指定を受けている事業所を除く。） | C14: 45000
A15: 定期巡回・随時対応型訪問介護看護 | C15: 45000
A16: 通所介護 | C16: 45000
A17: 通所ﾘﾊﾋﾞﾘﾃｰｼｮﾝ(介護保険法第７１条及び第１１５条の１１の規定によるみなし指定を受けている事業所を除く。） | C17: 45000
A18: 地域密着型通所介護 | C18: 45000
A19: 認知症対応型通所介護 | C19: 45000
A20: 小規模多機能居宅介護 | C20: 45000
A21: 短期入所生活介護 | C21: 45000
A22: 短期入所療養介護 | C22: 45000
... A25: 福祉用具貸与 | C25: 45000
